BEGIN:VCALENDAR
VERSION:2.0
PRODID:-//Hans Sauer Stiftung - ECPv6.10.1.1//NONSGML v1.0//EN
CALSCALE:GREGORIAN
METHOD:PUBLISH
X-ORIGINAL-URL:https://www.hanssauerstiftung.de
X-WR-CALDESC:Veranstaltungen für Hans Sauer Stiftung
REFRESH-INTERVAL;VALUE=DURATION:PT1H
X-Robots-Tag:noindex
X-PUBLISHED-TTL:PT1H
BEGIN:VTIMEZONE
TZID:Europe/Berlin
BEGIN:DAYLIGHT
TZOFFSETFROM:+0100
TZOFFSETTO:+0200
TZNAME:CEST
DTSTART:20190331T010000
END:DAYLIGHT
BEGIN:STANDARD
TZOFFSETFROM:+0200
TZOFFSETTO:+0100
TZNAME:CET
DTSTART:20191027T010000
END:STANDARD
END:VTIMEZONE
BEGIN:VEVENT
DTSTART;VALUE=DATE:20190411
DTEND;VALUE=DATE:20190416
DTSTAMP:20260423T122406
CREATED:20190319T151309Z
LAST-MODIFIED:20190528T145938Z
UID:10000029-1554958800-1555304399@www.hanssauerstiftung.de
SUMMARY:BY DESIGN OR BY DISASTER // spring conference
DESCRIPTION:  \nMake Transformation Tangible! Um dieses Motiv dreht sich die diesjährige BY DESIGN OR BY DISASTER Konferenz\, welche vom 11. bis 14. April 2019 in Bozen und im Obervinschgau stattfindet. In Form von Präsentationen\, Dialogformaten\, Workshops und Exkursionen werden dort Ansätze diskutiert\, wie durch kreative Praktiken öko-soziale Transformationsprozesse angestoßen und umgesetzt werden können. \nDie erneut von der Hans Sauer Stiftung geförderte Konferenz BY DESIGN OR BY DISASTER wird in Kooperation mit dem Masterstudiengang Eco–Social Design der Freien Universität Bozen ausgerichtet und ist dieses Jahr mit dem Festival „hier und da – gut leben im ländlichen Raum / il buon vivere nelle zone periferiche“ in Obervinschgau / Alta Val Vinosta verbunden. \nIn den letzten Jahren hat sich die Hans Sauer Stiftung intensiv mit Social Design Prozessen beschäftigt\, die auf die Gestaltbarkeit von Zukunft abzielen und nachhaltige Wirkungen auf systemischer Ebene entfalten sollen. Durch die Erprobung von partizipativen und Co-Design-Methoden in verschiedenen Kontexten wie Bildung\, Migration\, Circular Society und Stadtentwicklung gewinnt die Stiftung stetig mehr Erfahrung und Wissen darüber\, wie man Herausforderungen in diesen Bereichen angeht und Lösungsstrategien entwickelt. Auf der Konferenz in Bozen stellt die Stiftung nun ihren strategischen Ansatz des social design labs vor\, der darauf abzielt\, Erkenntnisse aus der konkreten Projektarbeit auf eine strukturelle Ebene zu übersetzen und sie auch für Dritte übertragbar und greifbar zu machen. \nDas Programm sowie weitere Infos zur Konferenz gibt es HIER. \nAnmeldung und Tickets gibt es bis 04. April 2019 über die Website der Konferenz / für StudentInnen über designdisaster@unibz.it \nVeranstaltungsort: \n11. und 12. April: Gebäude F4 der Freien Universität Bozen // 13. und 14. April: Obervinschgau / Alta Val Venosta
URL:https://www.hanssauerstiftung.de/veranstaltungen/by-design-or-by-disaster-spring-conference/
LOCATION:Freie Universität Bozen-Bolzano // Obervinschgau/Alta Val Venosta
ATTACH;FMTTYPE=image/png:https://www.hanssauerstiftung.de/wp-content/uploads/ByDesignorbyDisaster.png
END:VEVENT
END:VCALENDAR