BEGIN:VCALENDAR
VERSION:2.0
PRODID:-//Hans Sauer Stiftung - ECPv6.10.1.1//NONSGML v1.0//EN
CALSCALE:GREGORIAN
METHOD:PUBLISH
X-WR-CALNAME:Hans Sauer Stiftung
X-ORIGINAL-URL:https://www.hanssauerstiftung.de
X-WR-CALDESC:Veranstaltungen für Hans Sauer Stiftung
REFRESH-INTERVAL;VALUE=DURATION:PT1H
X-Robots-Tag:noindex
X-PUBLISHED-TTL:PT1H
BEGIN:VTIMEZONE
TZID:Europe/Berlin
BEGIN:DAYLIGHT
TZOFFSETFROM:+0100
TZOFFSETTO:+0200
TZNAME:CEST
DTSTART:20180325T010000
END:DAYLIGHT
BEGIN:STANDARD
TZOFFSETFROM:+0200
TZOFFSETTO:+0100
TZNAME:CET
DTSTART:20181028T010000
END:STANDARD
END:VTIMEZONE
BEGIN:VEVENT
DTSTART;TZID=Europe/Berlin:20180911T183000
DTEND;TZID=Europe/Berlin:20180911T210000
DTSTAMP:20260422T122734
CREATED:20180831T083332Z
LAST-MODIFIED:20190528T150248Z
UID:10000017-1536690600-1536699600@www.hanssauerstiftung.de
SUMMARY:SocEnt meets Politics - Landtagswahlen 2018
DESCRIPTION:Am 14. Oktober ist es soweit. Dann öffnen sich die Wahllokale zu einem der wichtigsten Ereignisse auf der politischen Agenda 2018: die Landtagswahl in Bayern. Wer dort die meisten Stimmen gewinnt\, bestimmt maßgeblich mit\, wie in Zukunft gesellschaftliche Herausforderungen im Freistaat angepackt werden.  \nGrund genug also\, um genauer nachzuhaken. Im Rahmen des Social Business Meetup München laden deshalb das Social Entrepreneurship Netzwerk Deutschland (SEND) e.V. und Relaio die Landtagskandidierenden der etablierten Parteien ein\, um Antworten auf dringende Fragen zu bekommen: Welchen Stellenwert hat für sie Social Entrepreneurship? Wie kann Social Entrepreneurship in Bayern besser gefördert werden? Welche Konzepte haben die verschiedenen Parteien?  \nZu diesen und anderen wichtigen Fragen stellen sich in einer Podiumsdiskussion: \nAndreas Keck (FDP)\nDr. Michael Ott (SPD)\nProf. Dr. Michael Piazolo (Freie Wähler)\nKatharina Schulze (Grüne). \n(Eine Zusage der CSU steht bisher noch aus.) \nDie Moderation übernimmt Caroline von Eichhorn\, die als freie Journalistin u.a. für die Puls-Redaktion des Bayerischen Rundfunks tätig ist. \nIm Anschluss an die Diskussion gibt es die Möglichkeit zum Austausch im Café von Über den Tellerrand kochen in der Münchner Volkshochschule
URL:https://www.hanssauerstiftung.de/veranstaltungen/socent-meets-politics-landtagswahlen-2018/
LOCATION:VHS München\, Einsteinstrasse 28\, München
ATTACH;FMTTYPE=image/jpeg:https://www.hanssauerstiftung.de/wp-content/uploads/SBMM-Podiumsdiskussion_Plakat_Zuschnitt-1.jpg
GEO:48.13534;11.59974
X-APPLE-STRUCTURED-LOCATION;VALUE=URI;X-ADDRESS=VHS München Einsteinstrasse 28 München;X-APPLE-RADIUS=500;X-TITLE=Einsteinstrasse 28:geo:11.59974,48.13534
END:VEVENT
END:VCALENDAR