BEGIN:VCALENDAR
VERSION:2.0
PRODID:-//Hans Sauer Stiftung - ECPv6.10.1.1//NONSGML v1.0//EN
CALSCALE:GREGORIAN
METHOD:PUBLISH
X-WR-CALNAME:Hans Sauer Stiftung
X-ORIGINAL-URL:https://www.hanssauerstiftung.de
X-WR-CALDESC:Veranstaltungen für Hans Sauer Stiftung
REFRESH-INTERVAL;VALUE=DURATION:PT1H
X-Robots-Tag:noindex
X-PUBLISHED-TTL:PT1H
BEGIN:VTIMEZONE
TZID:Europe/Berlin
BEGIN:DAYLIGHT
TZOFFSETFROM:+0100
TZOFFSETTO:+0200
TZNAME:CEST
DTSTART:20200329T010000
END:DAYLIGHT
BEGIN:STANDARD
TZOFFSETFROM:+0200
TZOFFSETTO:+0100
TZNAME:CET
DTSTART:20201025T010000
END:STANDARD
END:VTIMEZONE
BEGIN:VEVENT
DTSTART;TZID=Europe/Berlin:20200617T170000
DTEND;TZID=Europe/Berlin:20200617T183000
DTSTAMP:20260419T211716
CREATED:20200602T091057Z
LAST-MODIFIED:20200615T134048Z
UID:10000065-1592413200-1592418600@www.hanssauerstiftung.de
SUMMARY:Digitaler Vortrag "Wege zu einer Circular Society"
DESCRIPTION:Wissenschaft und Politik sind sich einig: Der Übergang zu nachhaltigeren Wirtschafts- und Lebensweisen – eine sozial-ökologische Transformation – ist notwendig! Damit stellen sich Fragen nach Wegen und Formen eines solchen Übergangs und nach den Potenzialen von Circular Economy-Ansätzen für eine solche Transformation. \nDie Hans Sauer Stiftung hat ein Positionspapier „Wege zu einer Circular Society – Potenziale des Social Design für gesellschaftliche Transformation“ darüber verfasst\, welche Potenziale\, aber auch Probleme und Verkürzungen im Konzept der Circular Economy stecken und formuliert die These\, dass der Wandel hin zu mehr Zirkularität besser im gesellschaftlich erweiterten Ansatz einer Circular Society gedacht und angegangen werden sollte.  Das Positionspapier\, welches auch HIER zum Download zur Verfügung steht\, möchten wir Ihnen gerne präsentieren und Sie zu einem digitalen Austausch darüber einladen.  \nsocial design lab – insights \nDigitaler Vortrag zum Thema „Wege zu einer Circular Society – Potenziale des Social Design für gesellschaftliche Transformation“ \n17.6.2020\, 17.00 – ca. 18.30 Uhr  \nDen Link zur Teilnahme erhalten Sie hier (LINK ZUR TEILNAME: https://zoom.us/j/96919387274) oder nach der Anmeldung über b.lersch@hanssauerstiftung.de. Zudem können Sie die Broschüre auch in gedruckter Form bei uns erhalten. Dafür schicken Sie bitte ebenfalls eine E-Mail. \n 
URL:https://www.hanssauerstiftung.de/veranstaltungen/digtaler-vortrag-zum-thema-wege-zu-einer-circular-society-potenziale-des-social-design-fuer-gesellschaftliche-transformation/
CATEGORIES:Veranstaltungen
ATTACH;FMTTYPE=image/jpeg:https://www.hanssauerstiftung.de/wp-content/uploads/SDL_Talk_cs_Querformat-scaled.jpg
ORGANIZER;CN="Hans Sauer Stiftung":MAILTO:b.lersch@hanssauerstiftung.de
END:VEVENT
END:VCALENDAR