BEGIN:VCALENDAR
VERSION:2.0
PRODID:-//Hans Sauer Stiftung - ECPv6.10.1.1//NONSGML v1.0//EN
CALSCALE:GREGORIAN
METHOD:PUBLISH
X-WR-CALNAME:Hans Sauer Stiftung
X-ORIGINAL-URL:https://www.hanssauerstiftung.de
X-WR-CALDESC:Veranstaltungen für Hans Sauer Stiftung
REFRESH-INTERVAL;VALUE=DURATION:PT1H
X-Robots-Tag:noindex
X-PUBLISHED-TTL:PT1H
BEGIN:VTIMEZONE
TZID:Europe/Berlin
BEGIN:DAYLIGHT
TZOFFSETFROM:+0100
TZOFFSETTO:+0200
TZNAME:CEST
DTSTART:20180325T010000
END:DAYLIGHT
BEGIN:STANDARD
TZOFFSETFROM:+0200
TZOFFSETTO:+0100
TZNAME:CET
DTSTART:20181028T010000
END:STANDARD
END:VTIMEZONE
BEGIN:VEVENT
DTSTART;VALUE=DATE:20180315
DTEND;VALUE=DATE:20180523
DTSTAMP:20260423T114741
CREATED:20180226T094142Z
LAST-MODIFIED:20190528T150148Z
UID:10000041-1521090000-1526965199@www.hanssauerstiftung.de
SUMMARY:Wohnungen\, Wohnungen\, Wohnungen! Wohnungsbau in Bayern 1918 | 2018
DESCRIPTION:Das Thema Wohnungsbau ist heute so aktuell wie vor hundert Jahren. Die Ausstellung aus Anlass des Jubiläumsjahres 2018 „Wir feiern Bayern“ widmet sich speziell dem Wohnungsbau im Freistaat Bayern im Kontext politischer Entscheidungen und Maßnahmen sowie wirtschaftlicher und gesellschaftlicher Rahmenbedingungen. Raumkonzepte und architektonische Lösungen als Spiegel jeweiliger Lebensverhältnisse werden dabei ebenso dargestellt wie Bau- und Siedlungsprogramme – insbesondere zur Förderung des sozialen Wohnungsbaus im Freistaat und des Wohnens für eine breite Bevölkerungsschicht. Die Auseinandersetzung mit den Bautypen – vom Eigenheim\, über die Kleinsiedlung und den mehrgeschossigen Zeilenbau bis zur Großsiedlung – führt den Blick nicht nur auf städtische Baumaßnahmen\, sondern auch auf die ländlich geprägten Regionen Bayerns. \nEine Ausstellung des Bayerischen Staatsministeriums des Innern\, für Bau und Verkehr in Kooperation mit dem Architekturmuseum der TU München in der Pinakothek der Moderne.\n \n Ausstellungseröffnung am 14. März um 19.00 Uhr mit dem Bayerischen Staatsminister des Innern\, für Bau und Verkehr\, Joachim Herrmann. \n Prof. Dr. Andres Lepik und Dr. Hilde Strobl vom Architekturmuseum der TU München führen in die Ausstellung ein. \nWeitere Informationen gibt es hier.
URL:https://www.hanssauerstiftung.de/veranstaltungen/wohnungen-wohnungen-wohnungen-wohnungsbau-in-bayern-1918-2018/
LOCATION:Architekturmuseum der TU München\, Pinakothek der Moderne\, Barer Straße 40\, München\, 80333\, Deutschland
ATTACH;FMTTYPE=image/jpeg:https://www.hanssauerstiftung.de/wp-content/uploads/24474-1506607556.jpg
GEO:48.1471559;11.5723021
X-APPLE-STRUCTURED-LOCATION;VALUE=URI;X-ADDRESS=Architekturmuseum der TU München Pinakothek der Moderne Barer Straße 40 München 80333 Deutschland;X-APPLE-RADIUS=500;X-TITLE=Pinakothek der Moderne\, Barer Straße 40:geo:11.5723021,48.1471559
END:VEVENT
END:VCALENDAR